BEGIN:VCALENDAR
VERSION:2.0
PRODID:-//Maximilian Lehrke - ECPv6.15.17.1//NONSGML v1.0//EN
CALSCALE:GREGORIAN
METHOD:PUBLISH
X-WR-CALNAME:Maximilian Lehrke
X-ORIGINAL-URL:https://maximilianlehrke.com
X-WR-CALDESC:Veranstaltungen für Maximilian Lehrke
REFRESH-INTERVAL;VALUE=DURATION:PT1H
X-Robots-Tag:noindex
X-PUBLISHED-TTL:PT1H
BEGIN:VTIMEZONE
TZID:Europe/Berlin
BEGIN:DAYLIGHT
TZOFFSETFROM:+0100
TZOFFSETTO:+0200
TZNAME:CEST
DTSTART:20250330T010000
END:DAYLIGHT
BEGIN:STANDARD
TZOFFSETFROM:+0200
TZOFFSETTO:+0100
TZNAME:CET
DTSTART:20251026T010000
END:STANDARD
BEGIN:DAYLIGHT
TZOFFSETFROM:+0100
TZOFFSETTO:+0200
TZNAME:CEST
DTSTART:20260329T010000
END:DAYLIGHT
BEGIN:STANDARD
TZOFFSETFROM:+0200
TZOFFSETTO:+0100
TZNAME:CET
DTSTART:20261025T010000
END:STANDARD
BEGIN:DAYLIGHT
TZOFFSETFROM:+0100
TZOFFSETTO:+0200
TZNAME:CEST
DTSTART:20270328T010000
END:DAYLIGHT
BEGIN:STANDARD
TZOFFSETFROM:+0200
TZOFFSETTO:+0100
TZNAME:CET
DTSTART:20271031T010000
END:STANDARD
END:VTIMEZONE
BEGIN:VEVENT
DTSTART;TZID=Europe/Berlin:20260429T183000
DTEND;TZID=Europe/Berlin:20260429T200000
DTSTAMP:20260424T051749
CREATED:20260309T200307Z
LAST-MODIFIED:20260311T141313Z
UID:4292-1777487400-1777492800@maximilianlehrke.com
SUMMARY:Sparkasse Schwerin Pre-Show
DESCRIPTION:Die Sparkasse Schwerin veranstaltet als Pre-Event vor dem Filmkunstfestival Mecklenburg-Vorpommern einen Tag voller Programmhighlights exklusiv für ihre Mitarbeiter*innen. \nUnsere Show: Island – Zwischen Nordlichtern und Lava \nIsland ist die größte Vulkaninsel der Erde\, mit den größten Gletschern Europas\, tosenden Wasserfällen\, schwarzen Strände und Wüsten\, schroffen Klippen und den einzigartigen Polarlichtern. Für die Zwillinge Max und Sebastian Lehrke ist Island ein lebendiges Wesen\, das sie immer wieder aufs Neue lockt. Mit Begeisterung für diese skurrilen Landschaften\, die von Wind\, Wetter\, Meer\, Eis\, Lava und der Zeit geformt worden sind\, und der Leidenschaft für Film und Fotografie entdecken sie die verborgenen Weiten Islands – und erzählen mit intensiven Bildern immer wieder neue\, faszinierende Geschichten von Feuer und Eis und der menschenleeren Unendlichkeit. Wie zum Beispiel der Vulkanausbruch im Bergmassiv Fagradalsfjall im Jahr 2021\, den Max als einer der ersten Menschen überhaupt und später auch Sebastian hautnah miterlebt.
URL:https://maximilianlehrke.com/event/sparkasse-schwerin-pre-show/
LOCATION:Sparkasse Schwerin\, Marienpl. 9\, Schwerin\, Mecklenburg-Vorpommern\, 19053\, Germany
CATEGORIES:Diashow,Foto- und Videovortrag,Reisevortrag
ATTACH;FMTTYPE=image/jpeg:https://maximilianlehrke.com/wp-content/uploads/2026/03/Event.jpg
END:VEVENT
BEGIN:VEVENT
DTSTART;TZID=Europe/Berlin:20260510T190000
DTEND;TZID=Europe/Berlin:20260510T220000
DTSTAMP:20260424T051749
CREATED:20260309T190337Z
LAST-MODIFIED:20260311T141417Z
UID:4283-1778439600-1778450400@maximilianlehrke.com
SUMMARY:35. FILMKUNSTFEST MV
DESCRIPTION:Das Filmkunstfest Mecklenburg-Vorpommern ist ein jährlich Anfang Mai stattfindendes Filmfestival in der Landeshauptstadt Schwerin. Es wurde Anfang der 1990er-Jahre gegründet und zählt heute mit rund 15.000 Besucherinnen und Besuchern zu den größten Publikumsfestivals in Ostdeutschland. Gezeigt werden zahlreiche Spiel-\, Dokumentar-\, Kurz- sowie Kinder- und Jugendfilme aus dem deutschsprachigen Raum\, die in verschiedenen Wettbewerben ausgezeichnet werden. \nUnsere Show: Island – Zwischen Nordlichtern und Lava \nIsland ist die größte Vulkaninsel der Erde\, mit den größten Gletschern Europas\, tosenden Wasserfällen\, schwarzen Strände und Wüsten\, schroffen Klippen und den einzigartigen Polarlichtern. Für die Zwillinge Max und Sebastian Lehrke ist Island ein lebendiges Wesen\, das sie immer wieder aufs Neue lockt. Mit Begeisterung für diese skurrilen Landschaften\, die von Wind\, Wetter\, Meer\, Eis\, Lava und der Zeit geformt worden sind\, und der Leidenschaft für Film und Fotografie entdecken sie die verborgenen Weiten Islands – und erzählen mit intensiven Bildern immer wieder neue\, faszinierende Geschichten von Feuer und Eis und der menschenleeren Unendlichkeit. Wie zum Beispiel der Vulkanausbruch im Bergmassiv Fagradalsfjall im Jahr 2021\, den Max als einer der ersten Menschen überhaupt und später auch Sebastian hautnah miterlebt.
URL:https://maximilianlehrke.com/event/35-filmkunstfest-mv/
LOCATION:35. FILMKUNSTFEST MV\, Wismarsche Str. 128\, Schwerin\, Mecklenburg-Vorpommern\, 19053\, Germany
CATEGORIES:Diashow,Foto- und Videovortrag,Reisevortrag
ATTACH;FMTTYPE=image/jpeg:https://maximilianlehrke.com/wp-content/uploads/2026/03/Event.jpg
END:VEVENT
BEGIN:VEVENT
DTSTART;TZID=Europe/Berlin:20261103T190000
DTEND;TZID=Europe/Berlin:20261103T213000
DTSTAMP:20260424T051749
CREATED:20260312T115538Z
LAST-MODIFIED:20260312T122849Z
UID:4303-1793732400-1793741400@maximilianlehrke.com
SUMMARY:Reise-Reportage Grenzgang\, Bochum
DESCRIPTION:GRENZGANG – mit dem Kopf unterwegs. \nGRENZGANG ist ein Kulturveranstalter\, Medienproduzent und eine Agentur rund ums Reisen. Seit der Gründung im Jahr 2003 haben mehr als 500.000 Menschen an über 2.000 Live- und Online-Veranstaltungen teilgenommen – in NRW und digital. Im Mittelpunkt stehen echte Abenteuer\, Expeditionen und kulturelle Begegnungen – weltweit und direkt vor der Haustür. GRENZGANG verbindet eindrucksvolle Naturerlebnisse\, packende Wissensvermittlung und berührendes Storytelling zu einem einzigartigen Live-Programm. \nUnsere Show: Island – Zwischen Nordlichtern und Lava \nIsland ist die größte Vulkaninsel der Erde\, mit den größten Gletschern Europas\, tosenden Wasserfällen\, schwarzen Strände und Wüsten\, schroffen Klippen und den einzigartigen Polarlichtern. Für die Zwillinge Max und Sebastian Lehrke ist Island ein lebendiges Wesen\, das sie immer wieder aufs Neue lockt. Mit Begeisterung für diese skurrilen Landschaften\, die von Wind\, Wetter\, Meer\, Eis\, Lava und der Zeit geformt worden sind\, und der Leidenschaft für Film und Fotografie entdecken sie die verborgenen Weiten Islands – und erzählen mit intensiven Bildern immer wieder neue\, faszinierende Geschichten von Feuer und Eis und der menschenleeren Unendlichkeit. Wie zum Beispiel der Vulkanausbruch im Bergmassiv Fagradalsfjall im Jahr 2021\, den Max als einer der ersten Menschen überhaupt und später auch Sebastian hautnah miterlebt. \n*Tickets online und an ausgeschriebenen Ticketstellen stehen bald zur Verfügung und werden hier dann verlinkt.
URL:https://maximilianlehrke.com/event/reise-reportage-grenzgang-bochum/
LOCATION:Bahnhof Langendreer\, Wallbaumweg 108\, Bochum\, Nordrhein-Westfalen\, 44894\, Germany
CATEGORIES:Diashow,Foto- und Videovortrag,Reisevortrag
ATTACH;FMTTYPE=image/jpeg:https://maximilianlehrke.com/wp-content/uploads/2026/03/Event.jpg
ORGANIZER;CN="GRENZGANG":MAILTO:post@grenzgang.de
END:VEVENT
BEGIN:VEVENT
DTSTART;TZID=Europe/Berlin:20261104T190000
DTEND;TZID=Europe/Berlin:20261104T213000
DTSTAMP:20260424T051749
CREATED:20260312T115836Z
LAST-MODIFIED:20260312T122750Z
UID:4301-1793818800-1793827800@maximilianlehrke.com
SUMMARY:Reise-Reportage Grenzgang\, Münster
DESCRIPTION:GRENZGANG – mit dem Kopf unterwegs. \nGRENZGANG ist ein Kulturveranstalter\, Medienproduzent und eine Agentur rund ums Reisen. Seit der Gründung im Jahr 2003 haben mehr als 500.000 Menschen an über 2.000 Live- und Online-Veranstaltungen teilgenommen – in NRW und digital. Im Mittelpunkt stehen echte Abenteuer\, Expeditionen und kulturelle Begegnungen – weltweit und direkt vor der Haustür. GRENZGANG verbindet eindrucksvolle Naturerlebnisse\, packende Wissensvermittlung und berührendes Storytelling zu einem einzigartigen Live-Programm. \nUnsere Show: Island – Zwischen Nordlichtern und Lava \nIsland ist die größte Vulkaninsel der Erde\, mit den größten Gletschern Europas\, tosenden Wasserfällen\, schwarzen Strände und Wüsten\, schroffen Klippen und den einzigartigen Polarlichtern. Für die Zwillinge Max und Sebastian Lehrke ist Island ein lebendiges Wesen\, das sie immer wieder aufs Neue lockt. Mit Begeisterung für diese skurrilen Landschaften\, die von Wind\, Wetter\, Meer\, Eis\, Lava und der Zeit geformt worden sind\, und der Leidenschaft für Film und Fotografie entdecken sie die verborgenen Weiten Islands – und erzählen mit intensiven Bildern immer wieder neue\, faszinierende Geschichten von Feuer und Eis und der menschenleeren Unendlichkeit. Wie zum Beispiel der Vulkanausbruch im Bergmassiv Fagradalsfjall im Jahr 2021\, den Max als einer der ersten Menschen überhaupt und später auch Sebastian hautnah miterlebt. \n*Tickets online und an ausgeschriebenen Ticketstellen stehen bald zur Verfügung und werden hier dann verlinkt.
URL:https://maximilianlehrke.com/event/grenzgang-events-muenster/
LOCATION:Konzertsaal Friedenskapelle Münster\, Willy-Brandt-Weg 37B\, Münster\, Nordrhein-Westfalen\, 48155\, Germany
CATEGORIES:Diashow,Foto- und Videovortrag,Reisevortrag
ATTACH;FMTTYPE=image/jpeg:https://maximilianlehrke.com/wp-content/uploads/2026/03/Event.jpg
ORGANIZER;CN="GRENZGANG":MAILTO:post@grenzgang.de
END:VEVENT
BEGIN:VEVENT
DTSTART;TZID=Europe/Berlin:20261106T200000
DTEND;TZID=Europe/Berlin:20261106T223000
DTSTAMP:20260424T051749
CREATED:20260312T120721Z
LAST-MODIFIED:20260312T122730Z
UID:4297-1793995200-1794004200@maximilianlehrke.com
SUMMARY:Reise-Reportage Grenzgang\, Bonn
DESCRIPTION:GRENZGANG – mit dem Kopf unterwegs. \nGRENZGANG ist ein Kulturveranstalter\, Medienproduzent und eine Agentur rund ums Reisen. Seit der Gründung im Jahr 2003 haben mehr als 500.000 Menschen an über 2.000 Live- und Online-Veranstaltungen teilgenommen – in NRW und digital. Im Mittelpunkt stehen echte Abenteuer\, Expeditionen und kulturelle Begegnungen – weltweit und direkt vor der Haustür. GRENZGANG verbindet eindrucksvolle Naturerlebnisse\, packende Wissensvermittlung und berührendes Storytelling zu einem einzigartigen Live-Programm. \nUnsere Show: Island – Zwischen Nordlichtern und Lava \nIsland ist die größte Vulkaninsel der Erde\, mit den größten Gletschern Europas\, tosenden Wasserfällen\, schwarzen Strände und Wüsten\, schroffen Klippen und den einzigartigen Polarlichtern. Für die Zwillinge Max und Sebastian Lehrke ist Island ein lebendiges Wesen\, das sie immer wieder aufs Neue lockt. Mit Begeisterung für diese skurrilen Landschaften\, die von Wind\, Wetter\, Meer\, Eis\, Lava und der Zeit geformt worden sind\, und der Leidenschaft für Film und Fotografie entdecken sie die verborgenen Weiten Islands – und erzählen mit intensiven Bildern immer wieder neue\, faszinierende Geschichten von Feuer und Eis und der menschenleeren Unendlichkeit. Wie zum Beispiel der Vulkanausbruch im Bergmassiv Fagradalsfjall im Jahr 2021\, den Max als einer der ersten Menschen überhaupt und später auch Sebastian hautnah miterlebt. \n*Tickets online und an ausgeschriebenen Ticketstellen stehen bald zur Verfügung und werden hier dann verlinkt.
URL:https://maximilianlehrke.com/event/reise-reportage-grenzgang-bonn/
LOCATION:Woki – Dein Kino!\, Bertha-von-Suttner-Platz 1-7\, Bonn\, Nordrhein-Westfalen\, 53111
CATEGORIES:Diashow,Foto- und Videovortrag,Reisevortrag
ATTACH;FMTTYPE=image/jpeg:https://maximilianlehrke.com/wp-content/uploads/2026/03/Event.jpg
ORGANIZER;CN="GRENZGANG":MAILTO:post@grenzgang.de
END:VEVENT
BEGIN:VEVENT
DTSTART;TZID=Europe/Berlin:20261107T140000
DTEND;TZID=Europe/Berlin:20261107T163000
DTSTAMP:20260424T051749
CREATED:20260312T115105Z
LAST-MODIFIED:20260312T122709Z
UID:4305-1794060000-1794069000@maximilianlehrke.com
SUMMARY:Reise-Reportage Grenzgang\, Aachen
DESCRIPTION:GRENZGANG – mit dem Kopf unterwegs. \nGRENZGANG ist ein Kulturveranstalter\, Medienproduzent und eine Agentur rund ums Reisen. Seit der Gründung im Jahr 2003 haben mehr als 500.000 Menschen an über 2.000 Live- und Online-Veranstaltungen teilgenommen – in NRW und digital. Im Mittelpunkt stehen echte Abenteuer\, Expeditionen und kulturelle Begegnungen – weltweit und direkt vor der Haustür. GRENZGANG verbindet eindrucksvolle Naturerlebnisse\, packende Wissensvermittlung und berührendes Storytelling zu einem einzigartigen Live-Programm. \nUnsere Show: Island – Zwischen Nordlichtern und Lava \nIsland ist die größte Vulkaninsel der Erde\, mit den größten Gletschern Europas\, tosenden Wasserfällen\, schwarzen Strände und Wüsten\, schroffen Klippen und den einzigartigen Polarlichtern. Für die Zwillinge Max und Sebastian Lehrke ist Island ein lebendiges Wesen\, das sie immer wieder aufs Neue lockt. Mit Begeisterung für diese skurrilen Landschaften\, die von Wind\, Wetter\, Meer\, Eis\, Lava und der Zeit geformt worden sind\, und der Leidenschaft für Film und Fotografie entdecken sie die verborgenen Weiten Islands – und erzählen mit intensiven Bildern immer wieder neue\, faszinierende Geschichten von Feuer und Eis und der menschenleeren Unendlichkeit. Wie zum Beispiel der Vulkanausbruch im Bergmassiv Fagradalsfjall im Jahr 2021\, den Max als einer der ersten Menschen überhaupt und später auch Sebastian hautnah miterlebt. \n*Tickets online und an ausgeschriebenen Ticketstellen stehen bald zur Verfügung und werden hier dann verlinkt.
URL:https://maximilianlehrke.com/event/grenzgang-events-aachen/
LOCATION:Eden Palast\, Franzstr. 45\, Aachen\, Nordrhein-Westfalen\, 52064\, Germany
CATEGORIES:Diashow,Foto- und Videovortrag,Reisevortrag
ATTACH;FMTTYPE=image/jpeg:https://maximilianlehrke.com/wp-content/uploads/2026/03/Event.jpg
ORGANIZER;CN="GRENZGANG":MAILTO:post@grenzgang.de
END:VEVENT
BEGIN:VEVENT
DTSTART;TZID=Europe/Berlin:20261108T113000
DTEND;TZID=Europe/Berlin:20261108T140000
DTSTAMP:20260424T051749
CREATED:20260312T120417Z
LAST-MODIFIED:20260312T122643Z
UID:4295-1794137400-1794146400@maximilianlehrke.com
SUMMARY:Reise-Reportage Grenzgang\, Köln
DESCRIPTION:GRENZGANG – mit dem Kopf unterwegs. \nGRENZGANG ist ein Kulturveranstalter\, Medienproduzent und eine Agentur rund ums Reisen. Seit der Gründung im Jahr 2003 haben mehr als 500.000 Menschen an über 2.000 Live- und Online-Veranstaltungen teilgenommen – in NRW und digital. Im Mittelpunkt stehen echte Abenteuer\, Expeditionen und kulturelle Begegnungen – weltweit und direkt vor der Haustür. GRENZGANG verbindet eindrucksvolle Naturerlebnisse\, packende Wissensvermittlung und berührendes Storytelling zu einem einzigartigen Live-Programm. \nUnsere Show: Island – Zwischen Nordlichtern und Lava \nIsland ist die größte Vulkaninsel der Erde\, mit den größten Gletschern Europas\, tosenden Wasserfällen\, schwarzen Strände und Wüsten\, schroffen Klippen und den einzigartigen Polarlichtern. Für die Zwillinge Max und Sebastian Lehrke ist Island ein lebendiges Wesen\, das sie immer wieder aufs Neue lockt. Mit Begeisterung für diese skurrilen Landschaften\, die von Wind\, Wetter\, Meer\, Eis\, Lava und der Zeit geformt worden sind\, und der Leidenschaft für Film und Fotografie entdecken sie die verborgenen Weiten Islands – und erzählen mit intensiven Bildern immer wieder neue\, faszinierende Geschichten von Feuer und Eis und der menschenleeren Unendlichkeit. Wie zum Beispiel der Vulkanausbruch im Bergmassiv Fagradalsfjall im Jahr 2021\, den Max als einer der ersten Menschen überhaupt und später auch Sebastian hautnah miterlebt. \n*Tickets online und an ausgeschriebenen Ticketstellen stehen bald zur Verfügung und werden hier dann verlinkt.
URL:https://maximilianlehrke.com/event/reise-reportage-grenzgang-koeln/
LOCATION:Cinedom\, Im Mediapark 1\, Köln\, Nordrhein-Westfalen\, 50670
CATEGORIES:Diashow,Foto- und Videovortrag,Reisevortrag
ATTACH;FMTTYPE=image/jpeg:https://maximilianlehrke.com/wp-content/uploads/2026/03/Event.jpg
ORGANIZER;CN="GRENZGANG":MAILTO:post@grenzgang.de
END:VEVENT
BEGIN:VEVENT
DTSTART;TZID=Europe/Berlin:20261115T133000
DTEND;TZID=Europe/Berlin:20261115T160000
DTSTAMP:20260424T051749
CREATED:20260312T120136Z
LAST-MODIFIED:20260312T122616Z
UID:4299-1794749400-1794758400@maximilianlehrke.com
SUMMARY:Reise-Reportage Grenzgang\, Düsseldorf
DESCRIPTION:GRENZGANG – mit dem Kopf unterwegs. \nGRENZGANG ist ein Kulturveranstalter\, Medienproduzent und eine Agentur rund ums Reisen. Seit der Gründung im Jahr 2003 haben mehr als 500.000 Menschen an über 2.000 Live- und Online-Veranstaltungen teilgenommen – in NRW und digital. Im Mittelpunkt stehen echte Abenteuer\, Expeditionen und kulturelle Begegnungen – weltweit und direkt vor der Haustür. GRENZGANG verbindet eindrucksvolle Naturerlebnisse\, packende Wissensvermittlung und berührendes Storytelling zu einem einzigartigen Live-Programm. \nUnsere Show: Island – Zwischen Nordlichtern und Lava \nIsland ist die größte Vulkaninsel der Erde\, mit den größten Gletschern Europas\, tosenden Wasserfällen\, schwarzen Strände und Wüsten\, schroffen Klippen und den einzigartigen Polarlichtern. Für die Zwillinge Max und Sebastian Lehrke ist Island ein lebendiges Wesen\, das sie immer wieder aufs Neue lockt. Mit Begeisterung für diese skurrilen Landschaften\, die von Wind\, Wetter\, Meer\, Eis\, Lava und der Zeit geformt worden sind\, und der Leidenschaft für Film und Fotografie entdecken sie die verborgenen Weiten Islands – und erzählen mit intensiven Bildern immer wieder neue\, faszinierende Geschichten von Feuer und Eis und der menschenleeren Unendlichkeit. Wie zum Beispiel der Vulkanausbruch im Bergmassiv Fagradalsfjall im Jahr 2021\, den Max als einer der ersten Menschen überhaupt und später auch Sebastian hautnah miterlebt. \n*Tickets online und an ausgeschriebenen Ticketstellen stehen bald zur Verfügung und werden hier dann verlinkt.
URL:https://maximilianlehrke.com/event/grenzgang-events-duesseldorf/
LOCATION:Savoy Theater\, Graf-Adolf-Str. 47\, Düsseldorf\, Nordrhein-Westfalen\, 40215\, Germany
CATEGORIES:Diashow,Foto- und Videovortrag,Reisevortrag
ATTACH;FMTTYPE=image/jpeg:https://maximilianlehrke.com/wp-content/uploads/2026/03/Event.jpg
ORGANIZER;CN="GRENZGANG":MAILTO:post@grenzgang.de
END:VEVENT
END:VCALENDAR